BEGIN:VCALENDAR
VERSION:2.0
PRODID:-//Paolo Swings - ECPv4.6.15//NONSGML v1.0//EN
CALSCALE:GREGORIAN
METHOD:PUBLISH
X-WR-CALNAME:Paolo Swings
X-ORIGINAL-URL:https://paoloswings.com/blog
X-WR-CALDESC:Events for Paolo Swings
BEGIN:VEVENT
DTSTART;TZID=America/New_York:20160416T180000
DTEND;TZID=America/New_York:20160417T010000
DTSTAMP:20260422T192958
CREATED:20160323T202707Z
LAST-MODIFIED:20160323T202707Z
UID:5458-1460829600-1460854800@paoloswings.com
SUMMARY:Swing Remix Dance Party
DESCRIPTION: \n  \n\nFEATURING for their very first time at Swing Remix – The 5\,000 JAZZ ASSASSINSPRE-DANCE WORKSHOPS\n\n6:30pm TBA | Swing Workshop (Adv Basic +)\nVisit swingremix.com for more details \n7:30pm TBA | Lindy Hop Workshop (Int/ Level) 1 hr (JCC in Manhattan)\nVisit swingremix.com for more details\nPERFORMANCE\n\n10:55pm Collegiate Shag Demonstration featuring Paolo & Jenifer of the Rhythm Stompers.\nVisit swingremix.com for more details.\n\n 
URL:https://paoloswings.com/blog/event/swing-remix-dance-party/
CATEGORIES:Upcoming
ATTACH;FMTTYPE=:
END:VEVENT
END:VCALENDAR