BEGIN:VCALENDAR
VERSION:2.0
PRODID:-//Paolo Swings - ECPv4.6.15//NONSGML v1.0//EN
CALSCALE:GREGORIAN
METHOD:PUBLISH
X-WR-CALNAME:Paolo Swings
X-ORIGINAL-URL:https://paoloswings.com/blog
X-WR-CALDESC:Events for Paolo Swings
BEGIN:VEVENT
DTSTART;TZID=America/New_York:20200314T193000
DTEND;TZID=America/New_York:20200315T004500
DTSTAMP:20260423T103257
CREATED:20200119T005653Z
LAST-MODIFIED:20200120T023236Z
UID:3882-1584214200-1584233100@paoloswings.com
SUMMARY:Swing Remix Dance SAT MAR 14
DESCRIPTION:Saturday March 14th\, 2020\nJOE SMITH & THE SPICY PICKLES\n \nSaturday March 14th\, The Swing Remix Saga continues with a repeat performance by the fabulous talent – JOE SMITH & THE SPICY PICKLES coming all the way from DENVER\, COLORADO.  \nThe WINTER 2020 SEASON includes Pre-Dance WORKSHOPS\, A BEGINNER SWING CLASS (Free with General Admission)\, LIVE MUSIC\, DANCE PERFORMANCES and Lots of SOCIAL DANCE TIME. PLUS A VINTAGE MARKET\, VINTAGE FILMS and give aways at our showtime hour.\n \nTICKETS ON SALE\nDiscounted Advanced Tickets available soon\nTickets will be available at the Door. \n 
URL:https://paoloswings.com/blog/event/swing-remix-dance-sat-mar-14/
CATEGORIES:Classes,Upcoming
ATTACH;FMTTYPE=image/jpeg:https://paoloswings.com/blog/wp-content/uploads/2020/01/Postcard_FRONT_WINTER2020web.jpg
END:VEVENT
END:VCALENDAR