BEGIN:VCALENDAR
VERSION:2.0
PRODID:-//Paolo Swings - ECPv4.6.15//NONSGML v1.0//EN
CALSCALE:GREGORIAN
METHOD:PUBLISH
X-WR-CALNAME:Paolo Swings
X-ORIGINAL-URL:https://paoloswings.com/blog
X-WR-CALDESC:Events for Paolo Swings
BEGIN:VEVENT
DTSTART;TZID=America/New_York:20151219T180000
DTEND;TZID=America/New_York:20151220T010000
DTSTAMP:20260424T165314
CREATED:20151027T173832Z
LAST-MODIFIED:20151027T173832Z
UID:5440-1450548000-1450573200@paoloswings.com
SUMMARY:Swing Remix Holiday Dance CONTEST
DESCRIPTION:\nSome members of the Rhythm Stompers will be entering this Contest! Don’t miss all the FUN!\nSWING REMIX 5th ANNUAL\nHOLIDAY Dance Contest & Party\nSATURDAY DECEMBER 19th\, 2015\nFeaturing Professor Cunningham & His Old School\nDJ TBD\nClick here for CONTEST DETAILS\nDANCE TIMELINE\n7:30 General Admission Doors Open\n7:45 BEGINNER Dance Lesson (FREE with dance admission)\n8:30 LIVE MUSIC & SOCIAL DANCING\n10:45 Dance Performances\, Announcements\, Give Aways\n11:00 LIVE MUSIC & SOCIAL DANCING\n1:00AM END\nAll Ages \nTickets Available starting NOV 22nd.\n$16 early bird (before DEC17)  / Door TBA\n*specialty dance workshops extra\nMORE DETAILS HERE\n\n 
URL:https://paoloswings.com/blog/event/swing-remix-holiday-dance-contest/
CATEGORIES:Upcoming
ATTACH;FMTTYPE=image/jpeg:https://paoloswings.com/blog/wp-content/uploads/2015/10/Postcard_Dance-Contest_Winter2015-6WEB-1.jpg
END:VEVENT
END:VCALENDAR