BEGIN:VCALENDAR
VERSION:2.0
PRODID:-//Paolo Swings - ECPv4.6.15//NONSGML v1.0//EN
CALSCALE:GREGORIAN
METHOD:PUBLISH
X-WR-CALNAME:Paolo Swings
X-ORIGINAL-URL:https://paoloswings.com/blog
X-WR-CALDESC:Events for Paolo Swings
BEGIN:VEVENT
DTSTART;TZID=America/New_York:20190302T193000
DTEND;TZID=America/New_York:20190303T003000
DTSTAMP:20260422T110121
CREATED:20190107T164353Z
LAST-MODIFIED:20190107T164353Z
UID:5880-1551555000-1551573000@paoloswings.com
SUMMARY:Swing Remix Sat Mar 2
DESCRIPTION:SWING REMIX DANCE\nDATE: Saturday March 2\, 2019\nLIVE MUSIC: Glenn Crytzer’s Savoy Seven\nLOCATION: Marlene Meyerson JCC Manhattan\nThe Swing Remix Saga continues into  WINTER 2019 Season. Expect some rockin pre-dance workshops\, some fun dance performances and lots of social dance time. All the same wonderful features like these workshops\, dance showcases\, vintage market\, vintage films and more. Tickets on sale Now! \nDISCOUNT TICKETS ONLINE NOW \n \n \n \nGlenn Crytzer is a New York City based bandleader\, arranger\, composer\, guitarist\, and vocalist who is in love with the music of the Jazz Age and Swing Era.\n​\nWhile completing his formal training in classical composition and cello at the Cleveland Institute of Music and the Florida State University\, Glenn took up dancing the Lindy Hop as a hobby. Through the Lindy his love of early jazz grew\, but he lamented that there were so few musical groups that specialized authentic performance of his favorite kind of music. Glenn decided to put his musical training to use\, taught himself guitar\, banjo\, and jazz arranging\, and set about bringing to life the music he loved.\n​\nNow in his mid 30s\, Glenn has become a staple in New York City’s jazz scene as a guitarist and bandleader. He has released 8 albums with his big band and combos and dozens of his recordings have been featured in films and TV shows seeking to evoke the sound of the golden age of radio. In 2017 his big band was named Best Group in New York in the NYC Jazz Awards. https://www.glenncrytzer.com \n 
URL:https://paoloswings.com/blog/event/swing-remix-sat-mar-2/
LOCATION:334 Amsterdam Avenue (at 76th Street)\, New York\, NY\, 10023\, United States
GEO:40.7811447;-73.9802025
X-APPLE-STRUCTURED-LOCATION;VALUE=URI;X-ADDRESS=334 Amsterdam Avenue (at 76th Street) New York NY 10023 United States;X-APPLE-RADIUS=500;X-TITLE=334 Amsterdam Avenue (at 76th Street):geo:-73.9802025,40.7811447
CATEGORIES:Classes,Upcoming
ATTACH;FMTTYPE=image/jpeg:https://paoloswings.com/blog/wp-content/uploads/2018/06/POSTCARD_FRONT_Remix_WEB400_JAN2019.jpg
END:VEVENT
END:VCALENDAR