BEGIN:VCALENDAR
VERSION:2.0
PRODID:-//Paolo Swings - ECPv4.6.15//NONSGML v1.0//EN
CALSCALE:GREGORIAN
METHOD:PUBLISH
X-WR-CALNAME:Paolo Swings
X-ORIGINAL-URL:https://paoloswings.com/blog
X-WR-CALDESC:Events for Paolo Swings
BEGIN:VEVENT
DTSTART;TZID=America/New_York:20180703T183000
DTEND;TZID=America/New_York:20180703T213000
DTSTAMP:20260422T074839
CREATED:20180627T230541Z
LAST-MODIFIED:20180702T125419Z
UID:5677-1530642600-1530653400@paoloswings.com
SUMMARY:Swing Sampler
DESCRIPTION:Tuesday\, July 3\n6:30-9:30\nwith Paolo & Special Guests\nPart One features Swing patterns\, footwork and flashy fanfare followed by Part Two – A sampling of Balboa\, Charleston & Collegiate Shag. Stick around after to practice it all. \nPart One (advanced basic)\n6:30pm: Partnering Tips\n7:00pm: 6-Count Patterns\n7:30pm: Tunnels and Turns \nPart Two (Pre-Int & Up)\n8:00pm Balboa\n8:30pm: Charleston\n9:00pm: Collegiate Shag\n9:30 Free Swing Practice \n 
URL:https://paoloswings.com/blog/event/swing-sampler-3/
LOCATION:412 Eighth Avenue 4th Floor\, New York\, NY\, 10001\, United States
GEO:40.7499527;-73.9947516
X-APPLE-STRUCTURED-LOCATION;VALUE=URI;X-ADDRESS=412 Eighth Avenue 4th Floor New York NY 10001 United States;X-APPLE-RADIUS=500;X-TITLE=412 Eighth Avenue 4th Floor:geo:-73.9947516,40.7499527
CATEGORIES:Classes,Upcoming
ATTACH;FMTTYPE=image/jpeg:https://paoloswings.com/blog/wp-content/uploads/2018/06/Swing-Sampler-JULY-2018-8X11.jpg
END:VEVENT
END:VCALENDAR