BEGIN:VCALENDAR
VERSION:2.0
PRODID:-//Paolo Swings - ECPv4.6.15//NONSGML v1.0//EN
CALSCALE:GREGORIAN
METHOD:PUBLISH
X-WR-CALNAME:Paolo Swings
X-ORIGINAL-URL:https://paoloswings.com/blog
X-WR-CALDESC:Events for Paolo Swings
BEGIN:VEVENT
DTSTART;TZID=America/New_York:20180520T150000
DTEND;TZID=America/New_York:20180520T180000
DTSTAMP:20260422T074615
CREATED:20180506T183246Z
LAST-MODIFIED:20180506T183246Z
UID:2824-1526828400-1526839200@paoloswings.com
SUMMARY:Swing Sampler workshop
DESCRIPTION:On Sunday May 20th\, Paolo will be hosting the SWING SAMPLER dance workshop at You Should Be Dancing Studios 412 Eighth Ave by Penn Station. It all goes down at 3pm. If you’re interested\, register in advance for the discounted prices. \nA sampling of the Lindy Hop\, Charleston\, Collegiate Shag and includes patterns\, footwork and styling in the world of swing. \n \n 
URL:https://paoloswings.com/blog/event/swing-sampler-workshop/
LOCATION:412 Eighth Avenue 4th Floor\, New York\, NY\, 10001\, United States
GEO:40.7499527;-73.9947516
X-APPLE-STRUCTURED-LOCATION;VALUE=URI;X-ADDRESS=412 Eighth Avenue 4th Floor New York NY 10001 United States;X-APPLE-RADIUS=500;X-TITLE=412 Eighth Avenue 4th Floor:geo:-73.9947516,40.7499527
CATEGORIES:Classes,Upcoming
ATTACH;FMTTYPE=image/jpeg:https://paoloswings.com/blog/wp-content/uploads/2018/05/SWING-SAMPLER-2018-TV.jpg
END:VEVENT
END:VCALENDAR