BEGIN:VCALENDAR
VERSION:2.0
PRODID:-//Paolo Swings - ECPv4.6.15//NONSGML v1.0//EN
CALSCALE:GREGORIAN
METHOD:PUBLISH
X-WR-CALNAME:Paolo Swings
X-ORIGINAL-URL:https://paoloswings.com/blog
X-WR-CALDESC:Events for Paolo Swings
BEGIN:VEVENT
DTSTART;TZID=America/New_York:20160303T183000
DTEND;TZID=America/New_York:20160303T213000
DTSTAMP:20260422T093810
CREATED:20160221T074519Z
LAST-MODIFIED:20160221T074519Z
UID:888-1457029800-1457040600@paoloswings.com
SUMMARY:Swivels Spins & Slides
DESCRIPTION:TIME 6:30-9:30pm \nTHURSDAY MARCH 3 \nLevel: 2 and up\n6:30 Swing Review\nwith Paolo Pasta Lanna\nReview of triple steps & classic patterns \n7:30 Swivels\, Spins & Slides (2 hrs)\nwith Paolo & Stina \nWe will help you to demystify these elements of the Lindy Hop and bring your dancing up a notch. These components will create endless opportunities to improvise \nPrice:  ALL $45 in advance/$55 day of\n6:30 Swing Review: $20 in advance/$25 door\n7:30 Swivels\, Spins & Slides: $35 in advance/ $45 door \n 
URL:https://paoloswings.com/blog/event/swivels-spins-slides/
CATEGORIES:Classes,Upcoming
ATTACH;FMTTYPE=:
END:VEVENT
END:VCALENDAR