BEGIN:VCALENDAR
VERSION:2.0
PRODID:-//Paolo Swings - ECPv4.6.15//NONSGML v1.0//EN
CALSCALE:GREGORIAN
METHOD:PUBLISH
X-WR-CALNAME:Paolo Swings
X-ORIGINAL-URL:https://paoloswings.com/blog
X-WR-CALDESC:Events for Paolo Swings
BEGIN:VEVENT
DTSTART;TZID=America/New_York:20160527T130000
DTEND;TZID=America/New_York:20160527T170000
DTSTAMP:20260422T142843
CREATED:20160527T120109Z
LAST-MODIFIED:20160527T120109Z
UID:5468-1464354000-1464368400@paoloswings.com
SUMMARY:The Intrepid
DESCRIPTION:Prohibition Productions and the INTREPID SEA\, AIR & SPACE MUSEUM present music and dancing on the flight deck and pier of the historic aircraft carrier Intrepid! \nThis daytime event will take place during Fleet Week New York 2016 and celebrates the music\, dancing\, and style of the Swing Era by featuring NYC’s best big bands\, swing DJs\, and so much more! \nLook out for performances by The Bathtub Ginnys \n 
URL:https://paoloswings.com/blog/event/the-intrepid/
CATEGORIES:Upcoming
ATTACH;FMTTYPE=image/jpeg:https://paoloswings.com/blog/wp-content/uploads/2014/03/midsummernight_2010.jpg
END:VEVENT
END:VCALENDAR