BEGIN:VCALENDAR
VERSION:2.0
PRODID:-//Paolo Swings - ECPv4.6.15//NONSGML v1.0//EN
CALSCALE:GREGORIAN
METHOD:PUBLISH
X-WR-CALNAME:Paolo Swings
X-ORIGINAL-URL:https://paoloswings.com/blog
X-WR-CALDESC:Events for Paolo Swings
BEGIN:VEVENT
DTSTART;TZID=America/New_York:20191102T193000
DTEND;TZID=America/New_York:20191103T003000
DTSTAMP:20260422T112152
CREATED:20190928T190635Z
LAST-MODIFIED:20190928T190635Z
UID:3679-1572723000-1572741000@paoloswings.com
SUMMARY:THE SWING REMIX
DESCRIPTION:SATURDAY NOV 2nd\, 2019\nTHE SWING REMIX\nLocation:The JCC Manhattan 334 Amsterdam Avenue NYC\nJust a reminder community dance party open to the public \nDETAILS AT SWINGREMIX.COM or click here EVENT PAGE \n 
URL:https://paoloswings.com/blog/event/the-swing-remix/
CATEGORIES:Classes,Upcoming
ATTACH;FMTTYPE=image/jpeg:https://paoloswings.com/blog/wp-content/uploads/2019/09/SwingRemix_Postcard_Front_RafalGaby_PostcardImage_AnitaSaha_IMG_0401.jpg
END:VEVENT
END:VCALENDAR