BEGIN:VCALENDAR
VERSION:2.0
PRODID:-//Paolo Swings - ECPv4.6.15//NONSGML v1.0//EN
CALSCALE:GREGORIAN
METHOD:PUBLISH
X-WR-CALNAME:Paolo Swings
X-ORIGINAL-URL:https://paoloswings.com/blog
X-WR-CALDESC:Events for Paolo Swings
BEGIN:VEVENT
DTSTART;TZID=America/New_York:20200503T080000
DTEND;TZID=America/New_York:20200514T170000
DTSTAMP:20260421T183320
CREATED:20200223T182823Z
LAST-MODIFIED:20200223T223309Z
UID:3967-1588492800-1589475600@paoloswings.com
SUMMARY:Tour Italia
DESCRIPTION:Catch Paolo Pasta Lanna as some northern Italy spots for swing workshops and demos. Details coming soon. \n 
URL:https://paoloswings.com/blog/event/tour-italia/
CATEGORIES:Classes,Upcoming
ATTACH;FMTTYPE=image/png:https://paoloswings.com/blog/wp-content/uploads/2018/11/Jump_paolo_solo_BW_PastaLanna_8X10_YSBD_by-John-Abbott.png
ORGANIZER;CN="Jumpin%20Entertainment%20LLC":MAILTO:info@JumpinEntertainment.com
END:VEVENT
END:VCALENDAR