BEGIN:VCALENDAR
VERSION:2.0
PRODID:-//Paolo Swings - ECPv4.6.15//NONSGML v1.0//EN
CALSCALE:GREGORIAN
METHOD:PUBLISH
X-WR-CALNAME:Paolo Swings
X-ORIGINAL-URL:https://paoloswings.com/blog
X-WR-CALDESC:Events for Paolo Swings
BEGIN:VEVENT
DTSTART;TZID=America/New_York:20161016T153000
DTEND;TZID=America/New_York:20161016T183000
DTSTAMP:20260424T101150
CREATED:20160927T033420Z
LAST-MODIFIED:20160927T033420Z
UID:5489-1476631800-1476642600@paoloswings.com
SUMMARY:Tricks Dips and Patterns swing workshop
DESCRIPTION: \nSUNDAY OCT 16th\n3:30-6:30PM\ninstructors: Paolo & Partner\nLevel: Advanced Basic+ \nLearn Colorful Dynamic\ncombinations and patterns\nThen discover the methods\nbehind executing Titanic Tricks\n& Dynamite Dips. Great techniques\nfor mastering these moves \nPrice:\nin advance $40\nday of $50 \n 
URL:https://paoloswings.com/blog/event/tricks-dips-and-patterns-swing-workshop/
LOCATION:412 Eighth Avenue 4th Floor\, New York\, NY\, 10001\, United States
GEO:40.7499527;-73.9947516
X-APPLE-STRUCTURED-LOCATION;VALUE=URI;X-ADDRESS=412 Eighth Avenue 4th Floor New York NY 10001 United States;X-APPLE-RADIUS=500;X-TITLE=412 Eighth Avenue 4th Floor:geo:-73.9947516,40.7499527
CATEGORIES:Classes,Upcoming
ATTACH;FMTTYPE=:
END:VEVENT
END:VCALENDAR