BEGIN:VCALENDAR
VERSION:2.0
PRODID:-//Paolo Swings - ECPv4.6.15//NONSGML v1.0//EN
CALSCALE:GREGORIAN
METHOD:PUBLISH
X-WR-CALNAME:Paolo Swings
X-ORIGINAL-URL:https://paoloswings.com/blog
X-WR-CALDESC:Events for Paolo Swings
BEGIN:VEVENT
DTSTART;TZID=America/New_York:20160626T150000
DTEND;TZID=America/New_York:20160626T180000
DTSTAMP:20260422T074601
CREATED:20160617T160000Z
LAST-MODIFIED:20160617T160000Z
UID:5474-1466953200-1466964000@paoloswings.com
SUMMARY:Tricks\, Dips & Patterns
DESCRIPTION:Tricks\, Dips & Patterns with Paolo & Special Guest Partner \n(Adv Beg to Int levels) \nAdd stylish partner combinations and patterns to your swing repertoire. Then\, add great techniques for added playful\, fun\, and fancy tricks & dips. \nPricing: $40 in advance / $50 day of \n 
URL:https://paoloswings.com/blog/event/tricks-dips-patterns-3/
LOCATION:412 Eighth Avenue 4th Floor\, New York\, NY\, 10001\, United States
GEO:40.7499527;-73.9947516
X-APPLE-STRUCTURED-LOCATION;VALUE=URI;X-ADDRESS=412 Eighth Avenue 4th Floor New York NY 10001 United States;X-APPLE-RADIUS=500;X-TITLE=412 Eighth Avenue 4th Floor:geo:-73.9947516,40.7499527
CATEGORIES:Classes,Upcoming
ATTACH;FMTTYPE=image/jpeg:https://paoloswings.com/blog/wp-content/uploads/2016/06/Tricks-Dips-Patterns-JUNE-8X11.jpg
END:VEVENT
END:VCALENDAR