BEGIN:VCALENDAR
VERSION:2.0
PRODID:-//Paolo Swings - ECPv4.6.15//NONSGML v1.0//EN
CALSCALE:GREGORIAN
METHOD:PUBLISH
X-WR-CALNAME:Paolo Swings
X-ORIGINAL-URL:https://paoloswings.com/blog
X-WR-CALDESC:Events for Paolo Swings
BEGIN:VEVENT
DTSTART;TZID=America/New_York:20161218T140000
DTEND;TZID=America/New_York:20161218T170000
DTSTAMP:20260422T075812
CREATED:20161127T011924Z
LAST-MODIFIED:20161127T011924Z
UID:1450-1482069600-1482080400@paoloswings.com
SUMMARY:Tricks\, Dips & Patterns for your Lindy Hop
DESCRIPTION: \ninstructors: Paolo & Laurentina\nLevel: Advanced Basic+ \nLearn Colorful Dynamic\ncombinations and patterns\nThen discover the methods\nbehind executing Titanic Tricks\n& Dynamite Dips. Great techniques\nfor mastering these moves \nPrice:\nin advance $40\nday of $50 \n 
URL:https://paoloswings.com/blog/event/tricks-dips-patterns-for-your-lindy-hop/
LOCATION:412 Eighth Avenue 4th Floor\, New York\, NY\, 10001\, United States
GEO:40.7499527;-73.9947516
X-APPLE-STRUCTURED-LOCATION;VALUE=URI;X-ADDRESS=412 Eighth Avenue 4th Floor New York NY 10001 United States;X-APPLE-RADIUS=500;X-TITLE=412 Eighth Avenue 4th Floor:geo:-73.9947516,40.7499527
CATEGORIES:Classes,Upcoming
ATTACH;FMTTYPE=image/jpeg:https://paoloswings.com/blog/wp-content/uploads/2016/11/TricksDipsPatterns-DEC-8X11web-1.jpg
END:VEVENT
END:VCALENDAR