BEGIN:VCALENDAR
VERSION:2.0
PRODID:-//Paolo Swings - ECPv4.6.15//NONSGML v1.0//EN
CALSCALE:GREGORIAN
METHOD:PUBLISH
X-WR-CALNAME:Paolo Swings
X-ORIGINAL-URL:https://paoloswings.com/blog
X-WR-CALDESC:Events for Paolo Swings
BEGIN:VEVENT
DTSTART;TZID=America/New_York:20160602T193000
DTEND;TZID=America/New_York:20160602T213000
DTSTAMP:20260422T152547
CREATED:20160527T122457Z
LAST-MODIFIED:20160527T122457Z
UID:5470-1464895800-1464903000@paoloswings.com
SUMMARY:Tricks\, Trades and Steals swing workshop
DESCRIPTION:Add some new tricks to your repertoire. Discover the art of trading partners and stealing partners. Fun for everyone. \n 
URL:https://paoloswings.com/blog/event/tricks-trades-and-steals-swing-workshop/
CATEGORIES:Classes,Upcoming
ATTACH;FMTTYPE=:
END:VEVENT
END:VCALENDAR