BEGIN:VCALENDAR
VERSION:2.0
PRODID:-//Paolo Swings - ECPv4.6.15//NONSGML v1.0//EN
CALSCALE:GREGORIAN
METHOD:PUBLISH
X-WR-CALNAME:Paolo Swings
X-ORIGINAL-URL:https://paoloswings.com/blog
X-WR-CALDESC:Events for Paolo Swings
BEGIN:VEVENT
DTSTART;TZID=America/New_York:20200215T200000
DTEND;TZID=America/New_York:20200215T220000
DTSTAMP:20260422T011108
CREATED:20200119T005136Z
LAST-MODIFIED:20200120T022948Z
UID:3876-1581796800-1581804000@paoloswings.com
SUMMARY:Valentine's Dance at Poloclub
DESCRIPTION:Dancers from the Rhythm Stompers will perform for a special Valentine’s Dance Party at this exclusive living community resort. \n  \n  \n 
URL:https://paoloswings.com/blog/event/valentines-dance-at-poloclub/
CATEGORIES:Upcoming
ATTACH;FMTTYPE=image/jpeg:https://paoloswings.com/blog/wp-content/uploads/2019/09/Charleston_TheBorgataValentine_WEBRGK0125HR.jpg
END:VEVENT
END:VCALENDAR