BEGIN:VCALENDAR
VERSION:2.0
PRODID:-//Paolo Swings - ECPv4.6.15//NONSGML v1.0//EN
CALSCALE:GREGORIAN
METHOD:PUBLISH
X-WR-CALNAME:Paolo Swings
X-ORIGINAL-URL:https://paoloswings.com/blog
X-WR-CALDESC:Events for Paolo Swings
BEGIN:VEVENT
DTSTART;TZID=America/New_York:20190216T200000
DTEND;TZID=America/New_York:20190216T233000
DTSTAMP:20260422T110054
CREATED:20190128T035410Z
LAST-MODIFIED:20190128T035410Z
UID:5887-1550347200-1550359800@paoloswings.com
SUMMARY:Valentine's Dance Party
DESCRIPTION:\nPaolo will be presenting a swing class PLAYFUL PATTERNS & DIPS and then as DJ Shuffle Puck will be featured during the band breaks. \nBIG BAND BALLROOM & SWING PARTY \n7PM-12:30AM\nSATURDAY FEB 16 \nLIVE MUSIC FEATURING \nSWING-A-DELIC\nPLUS DJ SHUFFLE PUCK \nINCLUDES\n8PM SWING CLASS “PLAYFUL PATTERNS & DIPS” with PAOLO\nGOURMET BUFFET Chicken\, Flounder\, Pork Roast\, Pasta\, Salad\, Breads\, Roasted Potatoes\, Coffee & Dessert \n$50 IN ADVANCE\, $60 AT DOOR \nTICKETS ON EVENTBRITE or CALL 914-773-7773 WestchesterBallroom.com \nCASH BAR | TABLE SEATING | COCKTAIL or 1940s ATTIRE REQUESTED \n\n 
URL:https://paoloswings.com/blog/event/valentines-dance-party/
LOCATION:Ramada Inn 125 Tuckahoe Rd\, Yonkers\, NY\, United States
CATEGORIES:Classes,Upcoming
ATTACH;FMTTYPE=image/jpeg:https://paoloswings.com/blog/wp-content/uploads/2019/01/Valentines-Dance-Party-Thin-HIGHRES-11X17.jpg
END:VEVENT
END:VCALENDAR