BEGIN:VCALENDAR
VERSION:2.0
PRODID:-//Paolo Swings - ECPv4.6.15//NONSGML v1.0//EN
CALSCALE:GREGORIAN
METHOD:PUBLISH
X-WR-CALNAME:Paolo Swings
X-ORIGINAL-URL:https://paoloswings.com/blog
X-WR-CALDESC:Events for Paolo Swings
BEGIN:VEVENT
DTSTART;TZID=America/New_York:20190614T170000
DTEND;TZID=America/New_York:20190616T180000
DTSTAMP:20260422T130208
CREATED:20190107T065830Z
LAST-MODIFIED:20190107T065830Z
UID:3344-1560531600-1560708000@paoloswings.com
SUMMARY:Swing Era Private Event | Hilton Head
DESCRIPTION:FRIDAY JUNE 14th– 15thCORPORATE PARTY Swing Era Theme\nPLUS WORKSHOPS for LOCAL SWING COMMUNITY \nLOCATION: Hilton Head\, South Carolina \n 
URL:https://paoloswings.com/blog/event/weekend-of-events-hilton-head-pending/
CATEGORIES:Upcoming
ATTACH;FMTTYPE=:
END:VEVENT
END:VCALENDAR