BEGIN:VCALENDAR
VERSION:2.0
PRODID:-//Paolo Swings - ECPv4.6.15//NONSGML v1.0//EN
CALSCALE:GREGORIAN
METHOD:PUBLISH
X-WR-CALNAME:Paolo Swings
X-ORIGINAL-URL:https://paoloswings.com/blog
X-WR-CALDESC:Events for Paolo Swings
BEGIN:VEVENT
DTSTART;TZID=America/New_York:20191118T190000
DTEND;TZID=America/New_York:20191118T210000
DTSTAMP:20260422T094050
CREATED:20190914T073449Z
LAST-MODIFIED:20190914T073449Z
UID:6088-1574103600-1574110800@paoloswings.com
SUMMARY:Weekly Classes Mondays
DESCRIPTION:Join our director as he presents weekly classes at You Should Be Dancing studios in NYC\n7PM Advanced Basic Swing\n8PM Beginner Basic Swing \nHeld at YSBD 412 Eighth Ave NYC \n 
URL:https://paoloswings.com/blog/event/weekly-classes-mondays-2019-11-18-2/2019-11-18/
LOCATION:412 Eighth Avenue 4th Floor\, New York\, NY\, 10001\, United States
GEO:40.7499527;-73.9947516
X-APPLE-STRUCTURED-LOCATION;VALUE=URI;X-ADDRESS=412 Eighth Avenue 4th Floor New York NY 10001 United States;X-APPLE-RADIUS=500;X-TITLE=412 Eighth Avenue 4th Floor:geo:-73.9947516,40.7499527
CATEGORIES:Classes,Upcoming
ATTACH;FMTTYPE=image/jpeg:https://paoloswings.com/blog/wp-content/uploads/2019/09/Monday-Swing-Lindy-Classes-SEPT-2019-11X14-1.jpg
END:VEVENT
END:VCALENDAR